BEGIN:VCALENDAR
VERSION:2.0
PRODID:-//hacksw/handcal//NONSGML v1.0//EN
BEGIN:VEVENT
SUMMARY:Open de Villefranche 2026 69400
UID:3d0ad3e6-f9e7-4a1b-a818-52aafde10be4
DTSTART:20260703T220000Z
DTEND:20260705T220000Z
LOCATION:Localisation 535, Avenue St-Exupery 69400 VILLEFRANCHE SUR SAONE
CATEGORIES:Sportif
STATUS:
DESCRIPTION:<p><span style="font-size:14px;"><strong>Open 3 Bandes a
 Villefranche sur Saone, les Samedi 4 et Dimanche 5
 Juillet.</strong></span></p>
 
 <p><span
 style="font-size:14px;"><strong>Spectacle et ambiance assures
 !</strong></span></p>
URL;VALUE=URI:https://billardopencarambole.sportsregions.fr/evenements/2026/07/04/open-de-villefranche-2026-69400-2432754
END:VEVENT
END:VCALENDAR
